BEGIN:VCALENDAR
VERSION:2.0
PRODID:-//（株）スモール・プラネット直営店 - ECPv6.15.15//NONSGML v1.0//EN
CALSCALE:GREGORIAN
METHOD:PUBLISH
X-ORIGINAL-URL:https://store.smallplanet.co.jp
X-WR-CALDESC:（株）スモール・プラネット直営店 のイベント
REFRESH-INTERVAL;VALUE=DURATION:PT1H
X-Robots-Tag:noindex
X-PUBLISHED-TTL:PT1H
BEGIN:VTIMEZONE
TZID:Asia/Tokyo
BEGIN:STANDARD
TZOFFSETFROM:+0900
TZOFFSETTO:+0900
TZNAME:JST
DTSTART:20240101T000000
END:STANDARD
END:VTIMEZONE
BEGIN:VEVENT
DTSTART;TZID=Asia/Tokyo:20250814T000000
DTEND;TZID=Asia/Tokyo:20250925T235959
DTSTAMP:20260424T060357
CREATED:20250819T053017Z
LAST-MODIFIED:20250821T015226Z
UID:7143-1755129600-1758844799@store.smallplanet.co.jp
SUMMARY:【秋葉原店】くまのプーさん　はちみつコーナー
DESCRIPTION:くまのプーさん　はちみつコーナー\n\n\n\n開催概要\n\n\n\n\n開催期間：2025年8月14日（木）～ 2025年9月25日（木）※開催までに予告なく日程が変更となる場合がございます。\n\n\n\n営業時間：11:00～21:00\n\n\n\n開催店舗：SATELLITE(サテライト)秋葉原店\n\n\n\n\n\n\n\n\n大人気の『くまのプーさん』グッズを集めた、期間限定ショップがオープンします！ \n\n\n\n\n\n\n\n\n\n\n\n\n開催スケジュール一覧へ
URL:https://store.smallplanet.co.jp/event/sl-akihabara202508/
CATEGORIES:SATELLITE秋葉原店
ATTACH;FMTTYPE=image/jpeg:https://store.smallplanet.co.jp/wp-content/uploads/2025/05/0ae55780099fdb9961049fc6a8925ecc.jpg
END:VEVENT
BEGIN:VEVENT
DTSTART;TZID=Asia/Tokyo:20250819T000000
DTEND;TZID=Asia/Tokyo:20250924T235959
DTSTAMP:20260424T060358
CREATED:20250819T012511Z
LAST-MODIFIED:20250819T083512Z
UID:7109-1755561600-1758758399@store.smallplanet.co.jp
SUMMARY:【心斎橋店】TOY STORY 30 TH COLLECTION POP UP
DESCRIPTION:TOY STORY 30 TH COLLECTION POP UP\n\n\n\n開催概要\n\n\n\n\n開催期間：2025年8月19日（火）～ 2025年9月24日（水）※開催までに予告なく日程が変更となる場合がございます。\n\n\n\n営業時間：10:00～20:00\n\n\n\n開催店舗：SATELLITE(サテライト)心斎橋店\n\n\n\n\n\n\n\n\n\n\n\n\n\n\n\n\n\n開催スケジュール一覧へ
URL:https://store.smallplanet.co.jp/event/sl-shinsaibashi202508/
CATEGORIES:SATELLITE心斎橋
ATTACH;FMTTYPE=image/jpeg:https://store.smallplanet.co.jp/wp-content/uploads/2025/05/4421c1204637d35a494564fd2ff96172.jpg
END:VEVENT
BEGIN:VEVENT
DTSTART;TZID=Asia/Tokyo:20250830T000000
DTEND;TZID=Asia/Tokyo:20250928T235959
DTSTAMP:20260424T060358
CREATED:20250821T015440Z
LAST-MODIFIED:20251017T062437Z
UID:7192-1756512000-1759103999@store.smallplanet.co.jp
SUMMARY:【銀座店】くまのプーさん　はちみつコーナー
DESCRIPTION:くまのプーさん　はちみつコーナー\n\n\n\n開催概要\n\n\n\n\n開催期間：2025年8月30日（土）～9月28日（日）※開催までに予告なく日程が変更となる場合がございます。\n\n\n\n営業時間：11:00～20:00\n\n\n\n開催店舗：SATELLITE(サテライト)銀座店\n\n\n\n\n\n\n\n\n大人気の『くまのプーさん』グッズを集めた、期間限定ショップがオープンします！ \n\n\n\n\n\n\n\n\n\n\n\nおすすめ商品\n\n\n\n\n\n\n\n\nLF WINNIE POOH BACKPACK-CSK　　　　　　　　　　　 　\23\,100\n\n\n\nLF DISNEY WINNIE THE POOH EEYORE MINI BACKPACK　　\23\,100　　　　　　　　　　　　\n\n\n\n\n\n\n\n\n\n			\n				\n					\n													\n								サテライト - 銀座インズ\n							\n																			\n								インズ1 1F 。 定期的に内容が変わる特別な空間！最新キャラグッズや限定企画をお楽しみください✨							 \n												\n							\n																銀座インズ - 銀座インズのお買い得な情報がもりだくさんです！2階・地階のレストラン・居酒屋は、和・洋・中はもちろん個性豊かな各店が飲み物と旬の料理を取り揃え、「ランチ＆ディナー」でお迎えします。							\n						\n					\n				\n							\n\n			\n\n\n\n\nディズニー公式サイトはこちら▶︎ \n\n\n\n\n\n\n\n\n開催スケジュール一覧へ
URL:https://store.smallplanet.co.jp/event/sl-ginza202508/
CATEGORIES:SATELLITE銀座
ATTACH;FMTTYPE=image/jpeg:https://store.smallplanet.co.jp/wp-content/uploads/2025/05/48cb47b0b67950351338ef78745c0a85.jpg
END:VEVENT
BEGIN:VEVENT
DTSTART;TZID=Asia/Tokyo:20250830T000000
DTEND;TZID=Asia/Tokyo:20251002T235959
DTSTAMP:20260424T060358
CREATED:20250819T063550Z
LAST-MODIFIED:20250821T013905Z
UID:7103-1756512000-1759449599@store.smallplanet.co.jp
SUMMARY:【札幌店】ディズニー プリンセス＆ディズニー フローズン-Disney Princess＆Disney Frozen-
DESCRIPTION:ディズニー プリンセス＆ディズニー フローズン-Disney Princess＆Disney Frozen-\n\n\n\nディズニー プリンセス＆ディズニー フローズン✨期間限定SHOPが開催決定！✨ \n\n\n\n開催概要\n\n\n\n\n開催期間：2025年8月30日（土）～ 2025年10月2日（木）※開催までに予告なく日程が変更となる場合がございます。\n\n\n\n営業時間：10:00～20:00\n\n\n\n開催店舗：SATELLITE(サテライト)札幌店📍さっぽろ地下街 ポールタウン\n\n\n\n\n\n\n\n\n\n\n\n\n\n\n\n\n\n開催スケジュール一覧へ
URL:https://store.smallplanet.co.jp/event/sl-sapporo202508/
CATEGORIES:SATELLITE札幌
ATTACH;FMTTYPE=image/jpeg:https://store.smallplanet.co.jp/wp-content/uploads/2025/05/4cdb7225f71e778aa4ad37481f2be5ea.jpg
END:VEVENT
END:VCALENDAR