BEGIN:VCALENDAR
VERSION:2.0
PRODID:-//（株）スモール・プラネット直営店 - ECPv6.15.15//NONSGML v1.0//EN
CALSCALE:GREGORIAN
METHOD:PUBLISH
X-WR-CALNAME:（株）スモール・プラネット直営店
X-ORIGINAL-URL:https://store.smallplanet.co.jp
X-WR-CALDESC:（株）スモール・プラネット直営店 のイベント
REFRESH-INTERVAL;VALUE=DURATION:PT1H
X-Robots-Tag:noindex
X-PUBLISHED-TTL:PT1H
BEGIN:VTIMEZONE
TZID:Asia/Tokyo
BEGIN:STANDARD
TZOFFSETFROM:+0900
TZOFFSETTO:+0900
TZNAME:JST
DTSTART:20240101T000000
END:STANDARD
END:VTIMEZONE
BEGIN:VEVENT
DTSTART;TZID=Asia/Tokyo:20250830T000000
DTEND;TZID=Asia/Tokyo:20251002T235959
DTSTAMP:20260424T043346
CREATED:20250819T063550Z
LAST-MODIFIED:20250821T013905Z
UID:7103-1756512000-1759449599@store.smallplanet.co.jp
SUMMARY:【札幌店】ディズニー プリンセス＆ディズニー フローズン-Disney Princess＆Disney Frozen-
DESCRIPTION:ディズニー プリンセス＆ディズニー フローズン-Disney Princess＆Disney Frozen-\n\n\n\nディズニー プリンセス＆ディズニー フローズン✨期間限定SHOPが開催決定！✨ \n\n\n\n開催概要\n\n\n\n\n開催期間：2025年8月30日（土）～ 2025年10月2日（木）※開催までに予告なく日程が変更となる場合がございます。\n\n\n\n営業時間：10:00～20:00\n\n\n\n開催店舗：SATELLITE(サテライト)札幌店📍さっぽろ地下街 ポールタウン\n\n\n\n\n\n\n\n\n\n\n\n\n\n\n\n\n\n開催スケジュール一覧へ
URL:https://store.smallplanet.co.jp/event/sl-sapporo202508/
CATEGORIES:SATELLITE札幌
ATTACH;FMTTYPE=image/jpeg:https://store.smallplanet.co.jp/wp-content/uploads/2025/05/4cdb7225f71e778aa4ad37481f2be5ea.jpg
END:VEVENT
BEGIN:VEVENT
DTSTART;TZID=Asia/Tokyo:20250923T000000
DTEND;TZID=Asia/Tokyo:20251002T235959
DTSTAMP:20260424T043346
CREATED:20250927T005552Z
LAST-MODIFIED:20250929T140431Z
UID:7258-1758585600-1759449599@store.smallplanet.co.jp
SUMMARY:【札幌店】ディズニー パワーワード・ヴィランズ
DESCRIPTION:ディズニー パワーワード・ヴィランズ\n\n\n\n「パワーワード・ヴィランズ」の商品を期間限定で展開👿 \n\n\n\n開催概要\n\n\n\n\n開催期間：2025年9月23日（火）～ 2025年10月2日（木）※開催までに予告なく日程が変更となる場合がございます。\n\n\n\n営業時間：10:00～20:00\n\n\n\n開催店舗：SATELLITE(サテライト)札幌店📍さっぽろ地下街 ポールタウン\n\n\n\n\n\n\n\n\n\n\n\n\n\n\n\n\n\n開催スケジュール一覧へ
URL:https://store.smallplanet.co.jp/event/sl-sapporo202509/
CATEGORIES:SATELLITE札幌
ATTACH;FMTTYPE=image/jpeg:https://store.smallplanet.co.jp/wp-content/uploads/2025/05/4cdb7225f71e778aa4ad37481f2be5ea.jpg
END:VEVENT
BEGIN:VEVENT
DTSTART;TZID=Asia/Tokyo:20250927T000000
DTEND;TZID=Asia/Tokyo:20251022T235959
DTSTAMP:20260424T043346
CREATED:20250819T063550Z
LAST-MODIFIED:20250929T140405Z
UID:7105-1758931200-1761177599@store.smallplanet.co.jp
SUMMARY:【秋葉原店】ディズニー プリンセス・ヴィランズ-Disney Princess・Villains-
DESCRIPTION:ディズニー プリンセス・ヴィランズ-Disney Princess・Villains-\n\n\n\nディズニー プリンセス＆ヴィランズ✨期間限定SHOPが開催決定！✨ \n\n\n\n開催概要\n\n\n\n\n開催期間：2025年9月27日（土）～10月22日（水）※開催までに予告なく日程が変更となる場合がございます。\n\n\n\n営業時間：11:00～21:00\n\n\n\n開催店舗：SATELLITE(サテライト)秋葉原店\n\n\n\n\n\n\n\n\n\n\n\n\n\n開催スケジュール一覧へ
URL:https://store.smallplanet.co.jp/event/sl-akihabara202509/
CATEGORIES:SATELLITE秋葉原店
ATTACH;FMTTYPE=image/jpeg:https://store.smallplanet.co.jp/wp-content/uploads/2025/05/0ae55780099fdb9961049fc6a8925ecc.jpg
END:VEVENT
END:VCALENDAR