BEGIN:VCALENDAR
VERSION:2.0
PRODID:-//（株）スモール・プラネット直営店 - ECPv6.15.15//NONSGML v1.0//EN
CALSCALE:GREGORIAN
METHOD:PUBLISH
X-WR-CALNAME:（株）スモール・プラネット直営店
X-ORIGINAL-URL:https://store.smallplanet.co.jp
X-WR-CALDESC:（株）スモール・プラネット直営店 のイベント
REFRESH-INTERVAL;VALUE=DURATION:PT1H
X-Robots-Tag:noindex
X-PUBLISHED-TTL:PT1H
BEGIN:VTIMEZONE
TZID:Asia/Tokyo
BEGIN:STANDARD
TZOFFSETFROM:+0900
TZOFFSETTO:+0900
TZNAME:JST
DTSTART:20240101T000000
END:STANDARD
END:VTIMEZONE
BEGIN:VEVENT
DTSTART;TZID=Asia/Tokyo:20251031T000000
DTEND;TZID=Asia/Tokyo:20251204T235959
DTSTAMP:20260424T014349
CREATED:20251022T160000Z
LAST-MODIFIED:20251122T044131Z
UID:7295-1761868800-1764892799@store.smallplanet.co.jp
SUMMARY:【札幌店】「ズートピア」グッズコレクション
DESCRIPTION:「ズートピア」グッズコレクション\n\n\n\n開催概要\n\n\n\n\n開催期間：2025年10月31日（金）～ 2025年12月4日（木）※開催までに予告なく日程が変更となる場合がございます。\n\n\n\n営業時間：10:00～20:00\n\n\n\n開催店舗：SATELLITE(サテライト)札幌店📍さっぽろ地下街 ポールタウン\n\n\n\n\n\n\n\n\n\n\n\n\n\n\n\n\nディズニー公式サイトはこちら▶︎ \n\n\n\n\n\n\n\n\n開催スケジュール一覧へ
URL:https://store.smallplanet.co.jp/event/sl-sapporo202511/
CATEGORIES:SATELLITE札幌
ATTACH;FMTTYPE=image/jpeg:https://store.smallplanet.co.jp/wp-content/uploads/2025/05/4cdb7225f71e778aa4ad37481f2be5ea.jpg
END:VEVENT
BEGIN:VEVENT
DTSTART;TZID=Asia/Tokyo:20251120T000000
DTEND;TZID=Asia/Tokyo:20251221T235959
DTSTAMP:20260424T014349
CREATED:20251022T160000Z
LAST-MODIFIED:20251021T090041Z
UID:7425-1763596800-1766361599@store.smallplanet.co.jp
SUMMARY:【秋葉原店】「ズートピア」グッズコレクション
DESCRIPTION:「ズートピア」グッズコレクション\n\n\n\n開催概要\n\n\n\n\n開催期間：2025年11月20日（木）～12月21日（日）※開催までに予告なく日が変更となる場合がございます。\n\n\n\n営業時間：11:00～21:00\n\n\n\n開催店舗：秋葉原駅東西自由通路SATELLITE(サテライト)秋葉原店\n\n\n\n\n\n\n\n\n\n\n\n\nディズニー公式サイトはこちら▶︎ \n\n\n\n\n\n\n\n\n開催スケジュール一覧へ
URL:https://store.smallplanet.co.jp/event/sl-akihabara202511/
CATEGORIES:SATELLITE秋葉原店
ATTACH;FMTTYPE=image/jpeg:https://store.smallplanet.co.jp/wp-content/uploads/2025/05/0ae55780099fdb9961049fc6a8925ecc.jpg
END:VEVENT
END:VCALENDAR